BEGIN:VCALENDAR
VERSION:2.0
BEGIN:VEVENT
DTSTAMP:20210428T140000
STATUS:CONFIRMED
UID:1560363617addtocalendar
DTSTART:20210428T140000
DTEND:20210428T150000
SUMMARY:NPC Virtual Newsmaker: Democratic National Committee Chair Jaime Harrison
DESCRIPTION:Democratic National Committee Chairman Jaime Harrison
LOCATION:The National Press Club | Online
BEGIN:VALARM
TRIGGER:-PT15M
ACTION:DISPLAY
END:VALARM
TRANSP:OPAQUE
END:VEVENT
END:VCALENDAR